BEGIN:VCALENDAR
VERSION:2.0
PRODID:-//FHF Acadiana - ECPv6.11.2.1//NONSGML v1.0//EN
CALSCALE:GREGORIAN
METHOD:PUBLISH
X-WR-CALNAME:FHF Acadiana
X-ORIGINAL-URL:https://fhfacadiana.org
X-WR-CALDESC:Events for FHF Acadiana
REFRESH-INTERVAL;VALUE=DURATION:PT1H
X-Robots-Tag:noindex
X-PUBLISHED-TTL:PT1H
BEGIN:VTIMEZONE
TZID:UTC
BEGIN:STANDARD
TZOFFSETFROM:+0000
TZOFFSETTO:+0000
TZNAME:UTC
DTSTART:20230101T000000
END:STANDARD
END:VTIMEZONE
BEGIN:VEVENT
DTSTART;TZID=UTC:20230307T173000
DTEND;TZID=UTC:20230307T200000
DTSTAMP:20260421T000750
CREATED:20230303T143759Z
LAST-MODIFIED:20230303T143759Z
UID:919-1678210200-1678219200@fhfacadiana.org
SUMMARY:An Evening of Hope
DESCRIPTION:
URL:https://fhfacadiana.org/event/an-evening-of-hope/
LOCATION:LSU Ag Center\, 1105 West Port Street\, Abbeville\, LA
END:VEVENT
END:VCALENDAR