BEGIN:VCALENDAR
VERSION:2.0
PRODID:-//FHF Acadiana - ECPv6.11.2.1//NONSGML v1.0//EN
CALSCALE:GREGORIAN
METHOD:PUBLISH
X-ORIGINAL-URL:https://fhfacadiana.org
X-WR-CALDESC:Events for FHF Acadiana
REFRESH-INTERVAL;VALUE=DURATION:PT1H
X-Robots-Tag:noindex
X-PUBLISHED-TTL:PT1H
BEGIN:VTIMEZONE
TZID:UTC
BEGIN:STANDARD
TZOFFSETFROM:+0000
TZOFFSETTO:+0000
TZNAME:UTC
DTSTART:20230101T000000
END:STANDARD
END:VTIMEZONE
BEGIN:VEVENT
DTSTART;TZID=UTC:20230324T090000
DTEND;TZID=UTC:20230324T110000
DTSTAMP:20260421T000925
CREATED:20230312T205544Z
LAST-MODIFIED:20230312T205544Z
UID:967-1679648400-1679655600@fhfacadiana.org
SUMMARY:Listening Sessions
DESCRIPTION:Do you have ideas for how Adult Protective Services may better serve vulnerable & disabled adults within our community? Tell us all about it at one of our upcoming listening sessions! \n\n\n March 9: 2 p.m.\, Hammond\n March 24: 9 a.m.\, Lafayette\n More sessions to come in April
URL:https://fhfacadiana.org/event/listening-sessions/
LOCATION:Lafayette Public Library\, 6101 Johnston St.\, Lafayette\, LA\, 70503
END:VEVENT
END:VCALENDAR