BEGIN:VCALENDAR
VERSION:2.0
PRODID:-//FHF Acadiana - ECPv6.11.2.1//NONSGML v1.0//EN
CALSCALE:GREGORIAN
METHOD:PUBLISH
X-WR-CALNAME:FHF Acadiana
X-ORIGINAL-URL:https://fhfacadiana.org
X-WR-CALDESC:Events for FHF Acadiana
REFRESH-INTERVAL;VALUE=DURATION:PT1H
X-Robots-Tag:noindex
X-PUBLISHED-TTL:PT1H
BEGIN:VTIMEZONE
TZID:UTC
BEGIN:STANDARD
TZOFFSETFROM:+0000
TZOFFSETTO:+0000
TZNAME:UTC
DTSTART:20230101T000000
END:STANDARD
END:VTIMEZONE
BEGIN:VEVENT
DTSTART;TZID=UTC:20230510T090000
DTEND;TZID=UTC:20230510T120000
DTSTAMP:20260420T203908
CREATED:20230426T022008Z
LAST-MODIFIED:20230426T022008Z
UID:1202-1683709200-1683720000@fhfacadiana.org
SUMMARY:Parental Rights in Special Education
DESCRIPTION:
URL:https://fhfacadiana.org/event/parental-rights-in-special-education/
LOCATION:Breaux Bridge Public Library\, 205 N Main St\, Breaux Bridge\, LA\, 70517
END:VEVENT
END:VCALENDAR