BEGIN:VCALENDAR
VERSION:2.0
PRODID:-//FHF Acadiana - ECPv6.11.2.1//NONSGML v1.0//EN
CALSCALE:GREGORIAN
METHOD:PUBLISH
X-ORIGINAL-URL:https://fhfacadiana.org
X-WR-CALDESC:Events for FHF Acadiana
REFRESH-INTERVAL;VALUE=DURATION:PT1H
X-Robots-Tag:noindex
X-PUBLISHED-TTL:PT1H
BEGIN:VTIMEZONE
TZID:UTC
BEGIN:STANDARD
TZOFFSETFROM:+0000
TZOFFSETTO:+0000
TZNAME:UTC
DTSTART:20230101T000000
END:STANDARD
END:VTIMEZONE
BEGIN:VEVENT
DTSTART;VALUE=DATE:20231123
DTEND;VALUE=DATE:20231125
DTSTAMP:20260420T132458
CREATED:20231123T143029Z
LAST-MODIFIED:20231123T143029Z
UID:1949-1700697600-1700870399@fhfacadiana.org
SUMMARY:Thanksgiving Closure
DESCRIPTION:Will reopen for business on Monday\, November 27\, 2023.
URL:https://fhfacadiana.org/event/thanksgiving-closure/
END:VEVENT
END:VCALENDAR