BEGIN:VCALENDAR
VERSION:2.0
PRODID:-//FHF Acadiana - ECPv6.11.2.1//NONSGML v1.0//EN
CALSCALE:GREGORIAN
METHOD:PUBLISH
X-WR-CALNAME:FHF Acadiana
X-ORIGINAL-URL:https://fhfacadiana.org
X-WR-CALDESC:Events for FHF Acadiana
REFRESH-INTERVAL;VALUE=DURATION:PT1H
X-Robots-Tag:noindex
X-PUBLISHED-TTL:PT1H
BEGIN:VTIMEZONE
TZID:UTC
BEGIN:STANDARD
TZOFFSETFROM:+0000
TZOFFSETTO:+0000
TZNAME:UTC
DTSTART:20240101T000000
END:STANDARD
END:VTIMEZONE
BEGIN:VEVENT
DTSTART;TZID=UTC:20240730T110000
DTEND;TZID=UTC:20240730T140000
DTSTAMP:20260420T104407
CREATED:20240615T141909Z
LAST-MODIFIED:20240615T142143Z
UID:2698-1722337200-1722348000@fhfacadiana.org
SUMMARY:Community Input Meeting July 30th In-Person
DESCRIPTION:
URL:https://fhfacadiana.org/event/community-input-meeting-july-17th/
LOCATION:Acadiana Area Human Services District\, 302 Dulles Drive\, Lafayette\, LA\, 70506
END:VEVENT
END:VCALENDAR