BEGIN:VCALENDAR
VERSION:2.0
PRODID:-//FHF Acadiana - ECPv6.11.2.1//NONSGML v1.0//EN
CALSCALE:GREGORIAN
METHOD:PUBLISH
X-ORIGINAL-URL:https://fhfacadiana.org
X-WR-CALDESC:Events for FHF Acadiana
REFRESH-INTERVAL;VALUE=DURATION:PT1H
X-Robots-Tag:noindex
X-PUBLISHED-TTL:PT1H
BEGIN:VTIMEZONE
TZID:UTC
BEGIN:STANDARD
TZOFFSETFROM:+0000
TZOFFSETTO:+0000
TZNAME:UTC
DTSTART:20230101T000000
END:STANDARD
END:VTIMEZONE
BEGIN:VEVENT
DTSTART;TZID=UTC:20231203T153000
DTEND;TZID=UTC:20231203T173000
DTSTAMP:20260420T091611
CREATED:20231123T143235Z
LAST-MODIFIED:20231123T143235Z
UID:1951-1701617400-1701624600@fhfacadiana.org
SUMMARY:Autism Society Christmas Social
DESCRIPTION:
URL:https://fhfacadiana.org/event/autism-society-christmas-social/
LOCATION:Downtown Convention Center\, 124 S. Buchanan St\, Lafayette\, LA
END:VEVENT
BEGIN:VEVENT
DTSTART;TZID=UTC:20231209T120000
DTEND;TZID=UTC:20231209T160000
DTSTAMP:20260420T091611
CREATED:20231123T143419Z
LAST-MODIFIED:20231123T143419Z
UID:1954-1702123200-1702137600@fhfacadiana.org
SUMMARY:Christmas Extravaganza
DESCRIPTION:
URL:https://fhfacadiana.org/event/christmas-extravaganza/
LOCATION:Robicheaux Recreation Center\, 1919 Eraste Landry Rd\, Lafayette\, LA\, 70506
END:VEVENT
END:VCALENDAR